BEGIN:VCALENDAR
VERSION:2.0
PRODID:https://www.diw.de/de/diw_01.c.806339.de/veranstaltungen.html
METHOD:PUBLISH
CALSCALE:GREGORIAN
BEGIN:VEVENT
UID:diw_01.c.1000008.de
LOCATION:Online-Event
SUMMARY:Einführung in das SOEP: Lernen Sie die SOEP-Daten während der Mittagspause kennen
DESCRIPTION:12:00-13:30 // Das Sozio-oekonomische Panel Deutschland (SOEP) ist eine repräsentative Panelstudie für die deutsche Bevölkerung, die Daten zu einer Vielzahl von Themen des täglichen Lebens erhebt, darunter allgemeines Wohlbefinden, Haushaltszusammensetzung, Bildungsaspirationen und Bildungsstatus, Einkommen und Berufsbiografien, Freizeitaktivitäten, Wohnen, Gesundheit, politische Orientierung und mehr. Mit seiner langjährigen Panelstruktur, der Themenbreite und der Repräsentativität der Daten ist das SOEP zu einer zentralen Ressource für die quantitative Forschung in den Sozialwissenschaften in Deutschland geworden.
DTSTART;VALUE=DATE:20260317T220000Z
DTEND;VALUE=DATE:20260401T220000Z
DTSTAMP:20260215T230000Z
URL:https://www.diw.de/de/diw_01.c.1000008.de/veranstaltungen/einfuehrung_in_das_soep__lernen_sie_die_soep-daten_waehrend_der_mittagspause_kennen.html
ORGANIZER;CN=Janina Britzke:mailto:jbritzke@diw.de
END:VEVENT
END:VCALENDAR