BEGIN:VCALENDAR
VERSION:2.0
PRODID:https://www.diw.de/de/diw_01.c.806339.de/veranstaltungen.html
METHOD:PUBLISH
CALSCALE:GREGORIAN
BEGIN:VEVENT
UID:diw_01.c.1000142.en
LOCATION:Anna J. Schwartz Room,5.2.010,Anton-Wilhelm-Amo-Strasse 58,10117 Berlin
SUMMARY:Stress and Resilience in the Labor Market
DESCRIPTION:12:00-13:00 // 
DTSTART:20260304T110000Z
DTEND:20260304T120000Z
DTSTAMP:20251125T230000Z
URL:https://www.diw.de/en/diw_01.c.1000142.en/events/stress_and_resilience_in_the_labor_market.html
ORGANIZER;CN=Arianna Antezza:mailto:aantezza@diw.de
END:VEVENT
END:VCALENDAR