BEGIN:VCALENDAR
VERSION:2.0
PRODID:https://www.diw.de/de/diw_01.c.806339.de/veranstaltungen.html
METHOD:PUBLISH
CALSCALE:GREGORIAN
BEGIN:VEVENT
UID:diw_01.c.1000219.en
LOCATION:Joan Robinson Room,DIW Berlin,3.3.002a,Anton-Wilhelm-Amo-Strasse 58,10117 Berlin
SUMMARY:Economic and Financial Crises: Empirical and Theoretical Tools
DESCRIPTION:26.05.: 10
a.m.-1 p.m. and 2-5 p.m.

27.05.: 10
a.m.-1 p.m. // This course aims at giving tools to students for entering the frontier of research regarding models of financial stability and economic crises. The focus will be on presenting state-of-the-art concepts and empirical methods on financial stability empirics, and general-purpose analytical and computational techniques that enable students to replicate and extend frontier-research papers in these areas. The course will focus on models of credit cycles, models of inside money and liquidity, and models connecting endogenous financial-stability risk with macroeconomic performance.
DTSTART;VALUE=DATE:20250525T220000Z
DTEND;VALUE=DATE:20250527T220000Z
DTSTAMP:20250427T220000Z
URL:https://www.diw.de/en/diw_01.c.1000219.en/events/economic_and_financial_crises__empirical_and_theoretical_tools.html
ORGANIZER;CN=Laura Starck:mailto:lstarck@diw.de
END:VEVENT
END:VCALENDAR