BEGIN:VCALENDAR
VERSION:2.0
PRODID:https://www.diw.de/de/diw_01.c.806339.de/veranstaltungen.html
METHOD:PUBLISH
CALSCALE:GREGORIAN
BEGIN:VEVENT
UID:diw_01.c.1005710.de
LOCATION:Elinor-Ostrom-Saal,DIW Berlin,1.2.019,Anton-Wilhelm-Amo-Straße 58,10117 Berlin
SUMMARY:Roh und rücksichtslos: Wieviel Gewalt ertragen wir?
DESCRIPTION:18:00-19.30 Uhr // Ob in Zügen, auf Straßen oder bei Großveranstaltungen: Übergriffe und tätliche Angriffe im öffentlichen Raum sorgen bundesweit für Schlagzeilen. Zugleich wächst das Gefühl, dass der gesellschaftliche Umgangston rauer geworden ist, dass Brutalität und Aggressivität zunehmen. Und das sorgt für Unsicherheit im Alltag. Die Forderungen reichen von konsequenterer Strafverfolgung, über Gewaltschutzpakete bis hin zu gesellschaftlich-ökonomischen Maßnahmen: Bildung, Chancengleichheit und Armutsbekämpfung als Gewaltprävention. Wo liegen Ursachen und Verantwortlichkeiten? Was kann der Einzelne, was Gesellschaft und Politik tun, um Gewalt im öffentlichen Raum zu begegnen? Und: ist es eine gefühlte oder reale Bedrohung? Was sagt die Wissenschaft dazu?  Im "Forum" von rbb24 Inforadio - in Kooperation mit dem Deutschen Institut für Wirtschaftsforschung (DIW Berlin) - diskutieren Vertreter*innen aus Wissenschaft, Politik und Polizei über Zahlen, Wahrnehmung und Wege zu mehr Sicherheit im öffentlichen Leben.  Die Teilnahme ist ausschließlich auf Einladung möglich.
DTSTART:20260518T160000Z
DTEND:20260518T173000Z
DTSTAMP:20260416T220000Z
URL:https://www.diw.de/de/diw_01.c.1005710.de/veranstaltungen/roh_und_ruecksichtslos__wieviel_gewalt_ertragen_wir.html
ORGANIZER;CN=Christiane Zschech:mailto:events@diw.de
END:VEVENT
END:VCALENDAR