BEGIN:VCALENDAR
VERSION:2.0
PRODID:https://www.diw.de/de/diw_01.c.806339.de/veranstaltungen.html
METHOD:PUBLISH
CALSCALE:GREGORIAN
BEGIN:VEVENT
UID:diw_01.c.1005896.en
SUMMARY:Intermittency and Market Power
DESCRIPTION:12:30 - 13:30 //   Abstract: Electricity markets are increasingly shaped by uncertainty in residual demand due to renewable expansion. This weakens the disciplining role of forward markets and amplifies the potential for market power in spot pricing. Understanding this mechanism is essential for informed market design in the context of growing intermittency and structural transformation of energy systems.  
DTSTART:20260115T113000Z
DTEND:20260115T123000Z
DTSTAMP:20260316T230000Z
URL:https://www.diw.de/en/diw_01.c.1005896.en/events/intermittency_and_market_power.html
END:VEVENT
END:VCALENDAR