BEGIN:VCALENDAR
VERSION:2.0
PRODID:https://www.diw.de/de/diw_01.c.806339.de/veranstaltungen.html
METHOD:PUBLISH
CALSCALE:GREGORIAN
BEGIN:VEVENT
UID:diw_01.c.340071.en
LOCATION:Wissenschaftszentrum Berlin,Raum B002/3,Reichpietschufer 50,10785 Berlin
SUMMARY:SOEP 2010
DESCRIPTION:The 9th International German Socio-Economic Panel User Conference (SOEP2010) will be held in Berlin, June 30 to July 2nd, 2010, at the Social Science Research Center Berlin (WZB). The conference provides researchers who use the SOEP with the opportunity to present and discuss their work with other researchers familiar with SOEP data. Researchers of all disciplines (e.g. economics, demographics, geography, political science, public health, psychology and sociology) who use the SOEP or the GSOEP part of the Cross-National Equivalent Files (CNEF) are invited to submit an abstract. We encourage in particular submission of papers using the longitudinal features of SOEP as well as papers on survey methodology and cross national comparative analysis.
DTSTART;VALUE=DATE:20100629T220000Z
DTEND;VALUE=DATE:20100702T220000Z
DTSTAMP:20091105T230000Z
URL:https://www.diw.de/en/diw_01.c.340071.en/events/soep_2010.html
ORGANIZER;CN=Christine Kurka:mailto:ckurka@diw.de
END:VEVENT
END:VCALENDAR