BEGIN:VCALENDAR
VERSION:2.0
PRODID:https://www.diw.de/de/diw_01.c.806339.de/veranstaltungen.html
METHOD:PUBLISH
CALSCALE:GREGORIAN
BEGIN:VEVENT
UID:diw_01.c.368712.de
LOCATION:Eleanor-Dulles-Raum,DIW Berlin im Quartier 110,5.2.010,Anton-Wilhelm-Amo-Straße 58,10117 Berlin
SUMMARY:Behavioral Economics and Firms
DESCRIPTION:14:00-18:30 (16.06.)09:00-12:00 (17.06.)  // 
DTSTART;VALUE=DATE:20110615T220000Z
DTEND;VALUE=DATE:20110617T220000Z
DTSTAMP:20110221T230000Z
URL:https://www.diw.de/de/diw_01.c.368712.de/veranstaltungen/behavioral_economics_and_firms.html
ORGANIZER;CN=Yun Cao:mailto:ycao@diw.de
END:VEVENT
END:VCALENDAR