BEGIN:VCALENDAR
VERSION:2.0
PRODID:https://www.diw.de/de/diw_01.c.806339.de/veranstaltungen.html
METHOD:PUBLISH
CALSCALE:GREGORIAN
BEGIN:VEVENT
UID:diw_01.c.371258.en
LOCATION:Eleanor-Dulles-Raum,DIW Berlin im Quartier 110,5.2.010,Anton-Wilhelm-Amo-Straße 58,10117 Berlin
SUMMARY:Adieu Rabenmutter - The Effect of Culture on Fertility, Female Labour Supply, the Gender Wage Gap and Childcare
DESCRIPTION:13:15-14:45 // 
DTSTART;VALUE=DATE:20110414
DTEND;VALUE=DATE:20110414
DTSTAMP:20110329T220000Z
URL:https://www.diw.de/en/diw_01.c.371258.en/events/adieu_rabenmutter_the_effect_of_culture_on_fertility_female_labour_supply_the_gender_wage_gap_and_childcare.html
ORGANIZER;CN=Yun Cao:mailto:ycao@diw.de
END:VEVENT
END:VCALENDAR