BEGIN:VCALENDAR
VERSION:2.0
PRODID:https://www.diw.de/de/diw_01.c.806339.de/veranstaltungen.html
METHOD:PUBLISH
CALSCALE:GREGORIAN
BEGIN:VEVENT
UID:diw_01.c.371463.en
LOCATION:Eleanor-Dulles-Raum,DIW Berlin im Quartier 110,5.2.010,Anton-Wilhelm-Amo-Straße 58,10117 Berlin
SUMMARY:Why some companies are sold below their market value
DESCRIPTION:13:15-14:45 // 
DTSTART;VALUE=DATE:20110630
DTEND;VALUE=DATE:20110630
DTSTAMP:20110407T220000Z
URL:https://www.diw.de/en/diw_01.c.371463.en/events/why_some_companies_are_sold_below_their_market_value.html
ORGANIZER;CN=Yun Cao:mailto:ycao@diw.de
END:VEVENT
END:VCALENDAR