BEGIN:VCALENDAR
VERSION:2.0
PRODID:https://www.diw.de/de/diw_01.c.806339.de/veranstaltungen.html
METHOD:PUBLISH
CALSCALE:GREGORIAN
BEGIN:VEVENT
UID:diw_01.c.396144.en
LOCATION:Universität Mannheim
SUMMARY:SOEPcampus@Universität Mannheim 2012
DESCRIPTION:This year's SOEPcampus@Universität Mannheim Workshop "Längsschnittdatenanalyse mit dem Sozio-ökonomischen Panel (SOEP)" will take place from June 18-20 (workshop held in German).
DTSTART;VALUE=DATE:20120617T220000Z
DTEND;VALUE=DATE:20120620T220000Z
DTSTAMP:20120329T220000Z
URL:https://www.diw.de/en/diw_01.c.396144.en/events/soepcampus_universitaet_mannheim_2012.html
END:VEVENT
END:VCALENDAR