BEGIN:VCALENDAR
VERSION:2.0
PRODID:https://www.diw.de/de/diw_01.c.806339.de/veranstaltungen.html
METHOD:PUBLISH
CALSCALE:GREGORIAN
BEGIN:VEVENT
UID:diw_01.c.412161.en
SUMMARY:SOEPcampus@DIW Berlin 2013
DESCRIPTION:This workshop will be held in German only.  Please refer to the German site for more information.
DTSTART;VALUE=DATE:20130224T220000Z
DTEND;VALUE=DATE:20130226T220000Z
DTSTAMP:20121126T230000Z
URL:https://www.diw.de/en/diw_01.c.412161.en/events/soepcampus_diw_berlin_2013.html
ORGANIZER;CN=Christine Kurka:mailto:ckurka@diw.de
END:VEVENT
END:VCALENDAR