BEGIN:VCALENDAR
VERSION:2.0
PRODID:https://www.diw.de/de/diw_01.c.806339.de/veranstaltungen.html
METHOD:PUBLISH
CALSCALE:GREGORIAN
BEGIN:VEVENT
UID:diw_01.c.415920.en
LOCATION:Eleanor-Dulles-Raum,DIW Berlin im Quartier 110,5.2.010,Anton-Wilhelm-Amo-Straße 58,10117 Berlin
SUMMARY:Factor Models
DESCRIPTION:14:00-18:00 // 14:00-18:00(11.03.) 09:00-12:30(12.03.)
DTSTART;VALUE=DATE:20130310T220000Z
DTEND;VALUE=DATE:20130312T220000Z
DTSTAMP:20130217T230000Z
URL:https://www.diw.de/en/diw_01.c.415920.en/events/factor_models.html
ORGANIZER;CN=Yun Cao:mailto:ycao@diw.de
END:VEVENT
END:VCALENDAR