BEGIN:VCALENDAR
VERSION:2.0
PRODID:https://www.diw.de/de/diw_01.c.806339.de/veranstaltungen.html
METHOD:PUBLISH
CALSCALE:GREGORIAN
BEGIN:VEVENT
UID:diw_01.c.418572.de
LOCATION:Schumpeter Saal,DIW Berlin im Quartier 110,Anton-Wilhelm-Amo-Straße 58,10117 Berlin
SUMMARY:Netzausbau in Deutschland und den europäischen Nachbarländern – Ist weniger mehr?
DESCRIPTION:08:30-13:30 // Es gibt viele aktuelle Anlässe, sich mit der Bedeutung der Höchstspannungsnetze für die Energiewende zu beschäftigen, sowohl im deutschen Kontext als auch in Bezug auf die europäischen Nachbarländer: Hierzu gehören u.a. die laufende Konsultation des Netzentwicklungsplans 2013, die parlamentarische Beratung des Bundesbedarfsplans aber auch der europäische Ten Year Network Development Plan: Sind die Vorschläge aus dem EnLAG bzw. dem Bundesbedarfsplan 2012 noch zeitgemäß, oder wäre nicht angesichts des Fortschreitens dezentraler Lösungen ein „weniger" an Netzausbau ein „mehr" für die Energiewende?    Welche Potenziale zur Steigerung der Leistungsfähigkeit der Netze gibt es jenseits des Netzausbaus?; benötigt die Energiewende HGÜ-Leitungen?  Wie kann die Umsetzung des Netzausbaus von europäischer Seite institutionell flankiert werden?  Welche Szenarien für grenzüberschreitenden Ausbau sind denkbar?    Der Workshop soll diese und andere Fragen sowohl im Hinblick auf laufende Verfahren, aber auch der mittleren Frist diskutieren. Er dient auch der Vorstellung von Hintergrundstudien bzw. Politikpapieren der vier Hauptredner.  Die Veranstaltung findet im Rahmen des mehrjährigen, von der Mercator-Stiftung unterstützten Projektes "Modellgestützte Analysen für die StromMarktgestaltung zur Integration erneuerbarer Energien im Rahmen der Energiewende (MASMIE)" statt, welches die Auswirkungen der Energiewende auf den Strommarkt, den Stromhandel, den Kraftwerkspark und die Stromnetze bei einem deutlich erhöhten Ausbau erneuerbarer Energien untersucht  und geeignete Regulierungsstrategien entwickelt.
DTSTART;VALUE=DATE:20130405
DTEND;VALUE=DATE:20130405
DTSTAMP:20130402T220000Z
URL:https://www.diw.de/de/diw_01.c.418572.de/veranstaltungen/netzausbau_in_deutschland_und_den_europaeischen_nachbarlaendern_ist_weniger_mehr.html
ORGANIZER;CN=Judith Paeper:mailto:jpaeper@diw.de
END:VEVENT
END:VCALENDAR