BEGIN:VCALENDAR
VERSION:2.0
PRODID:https://www.diw.de/de/diw_01.c.806339.de/veranstaltungen.html
METHOD:PUBLISH
CALSCALE:GREGORIAN
BEGIN:VEVENT
UID:diw_01.c.420310.en
LOCATION:Eleanor-Dulles-Raum,DIW Berlin im Quartier 110,5.2.010,Anton-Wilhelm-Amo-Straße 58,10117 Berlin
SUMMARY:Macro-Labor Analysis
DESCRIPTION:14:00-18:00(Do), 09:00-12:30(Fr) // 
DTSTART;VALUE=DATE:20130522T220000Z
DTEND;VALUE=DATE:20130524T220000Z
DTSTAMP:20130423T220000Z
URL:https://www.diw.de/en/diw_01.c.420310.en/events/macro_labor_analysis.html
ORGANIZER;CN=Yun Cao:mailto:ycao@diw.de
END:VEVENT
END:VCALENDAR