BEGIN:VCALENDAR
VERSION:2.0
PRODID:https://www.diw.de/de/diw_01.c.806339.de/veranstaltungen.html
METHOD:PUBLISH
CALSCALE:GREGORIAN
BEGIN:VEVENT
UID:diw_01.c.421228.de
LOCATION:Schumpeter Saal,DIW Berlin im Quartier 110,Anton-Wilhelm-Amo-Straße 58,10117 Berlin
SUMMARY:Review of German Energy Policy 
DESCRIPTION:2.00 pm // The International Energy Agency regularly reviews the energy policies of each of its member countries. Energy Policies of IEA Countries: Germany 2013 Review presents the results of the latest IEA assessment of Germany's policies. This review analyses the energy-policy challenges facing Germany and provides recommendations for further policy improvements. It is intended to help guide the country towards a more secure and sustainable energy future.Presentation: Maria van Der Hoeven, Executive Director of the International Energy Agency, ParisChair: Prof. Dr. Claudia Kemfert, Head of Department Energy, Transportation, Environment at DIW Berlin
DTSTART;VALUE=DATE:20130524
DTEND;VALUE=DATE:20130524
DTSTAMP:20130514T220000Z
URL:https://www.diw.de/de/diw_01.c.421228.de/veranstaltungen/review_of_german_energy_policy.html
END:VEVENT
END:VCALENDAR