BEGIN:VCALENDAR
VERSION:2.0
PRODID:https://www.diw.de/de/diw_01.c.806339.de/veranstaltungen.html
METHOD:PUBLISH
CALSCALE:GREGORIAN
BEGIN:VEVENT
UID:diw_01.c.421447.de
LOCATION:Eleanor-Dulles-Raum,DIW Berlin im Quartier 110,5.2.010,Anton-Wilhelm-Amo-Straße 58,10117 Berlin
SUMMARY:Open Economy Macroeconomics
DESCRIPTION:14:00 - 18:00 (06.06.)09:00 - 12:30 (07.06.) // 
DTSTART;VALUE=DATE:20130605T220000Z
DTEND;VALUE=DATE:20130607T220000Z
DTSTAMP:20130520T220000Z
URL:https://www.diw.de/de/diw_01.c.421447.de/veranstaltungen/open_economy_macroeconomics.html
ORGANIZER;CN=Marcel Fratzscher:mailto:president@diw.de
END:VEVENT
END:VCALENDAR