BEGIN:VCALENDAR
VERSION:2.0
PRODID:https://www.diw.de/de/diw_01.c.806339.de/veranstaltungen.html
METHOD:PUBLISH
CALSCALE:GREGORIAN
BEGIN:VEVENT
UID:diw_01.c.421848.de
LOCATION:Eleanor-Dulles-Raum,DIW Berlin im Quartier 110,5.2.010,Anton-Wilhelm-Amo-Straße 58,10117 Berlin
SUMMARY:Trends in Hours Worked across Countries
DESCRIPTION:13:15-14:45 // 
DTSTART;VALUE=DATE:20130614
DTEND;VALUE=DATE:20130614
DTSTAMP:20130526T220000Z
URL:https://www.diw.de/de/diw_01.c.421848.de/veranstaltungen/trends_in_hours_worked_across_countries.html
ORGANIZER;CN=Katharina Wrohlich:mailto:kwrohlich@diw.de
END:VEVENT
END:VCALENDAR