BEGIN:VCALENDAR
VERSION:2.0
PRODID:https://www.diw.de/de/diw_01.c.806339.de/veranstaltungen.html
METHOD:PUBLISH
CALSCALE:GREGORIAN
BEGIN:VEVENT
UID:diw_01.c.422213.de
LOCATION:Eleanor-Dulles-Raum,DIW Berlin im Quartier 110,5.2.010,Anton-Wilhelm-Amo-Straße 58,10117 Berlin
SUMMARY:Educational Achievement and the Allocation of School Resources
DESCRIPTION:13:15-14:45 // 
DTSTART;VALUE=DATE:20130607
DTEND;VALUE=DATE:20130607
DTSTAMP:20130602T220000Z
URL:https://www.diw.de/de/diw_01.c.422213.de/veranstaltungen/educational_achievement_and_the_allocation_of_school_resources.html
ORGANIZER;CN=C. Katharina Spieß:mailto:kspiess@diw.de
END:VEVENT
END:VCALENDAR