BEGIN:VCALENDAR
VERSION:2.0
PRODID:https://www.diw.de/de/diw_01.c.806339.de/veranstaltungen.html
METHOD:PUBLISH
CALSCALE:GREGORIAN
BEGIN:VEVENT
UID:diw_01.c.422247.de
LOCATION:Eleanor-Dulles-Raum,DIW Berlin im Quartier 110,5.2.010,Anton-Wilhelm-Amo-Straße 58,10117 Berlin
SUMMARY:Does Everyone Use Probabilities?
DESCRIPTION:13:15-14:45 // Is using probabilities in decision making under uncertainty a universal pattern? Or is it confined to individuals with high cognitive skills? We address this question based on a novel theoretical approach and on data on subjective probabilities from the Health and Retirement Study (HRS). Our analysis focusses on stockholding decisions. Our theoretical model relies on the dual-systems framework from psychology. Individuals with low cognitive skills make decisions in an intuitive nonprobabilistic way based on cues and feelings. Individuals with high cognitive skills make decisions akin to the expected utility model. In our empirical analysis, we find substantial evidence that the association between subjective probabilities and behavior is much stronger for individuals with high cognitive skills than for those with low cognitive skills. Our findings suggest that decision making akin to the expected utility model may indeed be confined to individuals with higher cognitive skills.
DTSTART;VALUE=DATE:20130628
DTEND;VALUE=DATE:20130628
DTSTAMP:20130602T220000Z
URL:https://www.diw.de/de/diw_01.c.422247.de/veranstaltungen/does_everyone_use_probabilities.html
ORGANIZER;CN=Peter Haan:mailto:phaan@diw.de
END:VEVENT
END:VCALENDAR