BEGIN:VCALENDAR
VERSION:2.0
PRODID:https://www.diw.de/de/diw_01.c.806339.de/veranstaltungen.html
METHOD:PUBLISH
CALSCALE:GREGORIAN
BEGIN:VEVENT
UID:diw_01.c.422514.de
LOCATION:Ferdinand-Friedensburg-Raum,DIW Berlin,2.3.001,Anton-Wilhelm-Amo-Straße 58,10117 Berlin
SUMMARY:The 'Bomb' Risk Elicitation Task
DESCRIPTION:3 - 3:45 pm // Abstract:We present the 'Bomb' Risk Elicitation Task (BRET), an intuitive procedure aimed at measuring risk attitudes. Subjects decide how many boxes to collect out of 100, one of which contains a bomb. Earnings increase linearly with the number of boxes accumulated but are zero if the bomb is also collected. The BRET requires minimal numeracy skills, avoids truncation of the data, allows the precise estimation of both risk aversion and risk seeking, and is not affected by the degree of loss aversion or by violations of the Reduction Axiom. We validate the BRET, test its robustness in a large-scale experiment, and compare it to three popular risk elicitation tasks. Choices react significantly only to increased stakes, and are sensible to wealth effects. Our experiment rationalizes the gender gap that often characterizes choices under uncertainty by means of a higher loss rather than risk aversion.
DTSTART;VALUE=DATE:20130611
DTEND;VALUE=DATE:20130611
DTSTAMP:20130609T220000Z
URL:https://www.diw.de/de/diw_01.c.422514.de/veranstaltungen/the_bomb_risk_elicitation_task.html
ORGANIZER;CN=Paul Viefers
END:VEVENT
END:VCALENDAR