BEGIN:VCALENDAR
VERSION:2.0
PRODID:https://www.diw.de/de/diw_01.c.806339.de/veranstaltungen.html
METHOD:PUBLISH
CALSCALE:GREGORIAN
BEGIN:VEVENT
UID:diw_01.c.422831.en
LOCATION:Eleanor-Dulles-Raum,DIW Berlin im Quartier 110,5.2.010,Anton-Wilhelm-Amo-Straße 58,10117 Berlin
SUMMARY:Natural Disaster, Policy Disaster, Policy Action, and Mental Well-Being: The Case of Fukushima
DESCRIPTION:12:30 - 13:30 // We study the impact of the Fukushima disaster on people's mental distress in another industrialized country, 5500 miles away. The meltdown significantly increased environmental concerns by 25% among the German population. Subsequent drastic policy action permanently shut down the oldest nuclear reactors, implemented the phase-out of the remaining ones, and proclaimed the transition to renewables. This energy policy turnaround was largely supported by the population and equalized the increase in mental distress. We fail to detect any significant long-term impact of Fukushima. However, we estimate that during the 3 months after the meltdown, Fukushima triggered external monetized health costs worth €250 per distressed citizen-particularly among risk averse women above 40.
DTSTART;VALUE=DATE:20130619
DTEND;VALUE=DATE:20130619
DTSTAMP:20130616T220000Z
URL:https://www.diw.de/en/diw_01.c.422831.en/events/natural_disaster_policy_disaster_policy_action_and_mental_well_being_the_case_of_fukushima.html
ORGANIZER;CN=Patricia Gallego Granados:mailto:pgallegogranados@diw.de
END:VEVENT
END:VCALENDAR