BEGIN:VCALENDAR
VERSION:2.0
PRODID:https://www.diw.de/de/diw_01.c.806339.de/veranstaltungen.html
METHOD:PUBLISH
CALSCALE:GREGORIAN
BEGIN:VEVENT
UID:diw_01.c.423771.de
LOCATION:Eleanor-Dulles-Raum,DIW Berlin im Quartier 110,5.2.010,Anton-Wilhelm-Amo-Straße 58,10117 Berlin
SUMMARY:Information and Price Dispersion: Evidence from Retail Gasoline
DESCRIPTION:13:15-14:45 // 
DTSTART;VALUE=DATE:20130705
DTEND;VALUE=DATE:20130705
DTSTAMP:20130630T220000Z
URL:https://www.diw.de/de/diw_01.c.423771.de/veranstaltungen/information_and_price_dispersion_evidence_from_retail_gasoline.html
ORGANIZER;CN=Yun Cao:mailto:ycao@diw.de
END:VEVENT
END:VCALENDAR