BEGIN:VCALENDAR
VERSION:2.0
PRODID:https://www.diw.de/de/diw_01.c.806339.de/veranstaltungen.html
METHOD:PUBLISH
CALSCALE:GREGORIAN
BEGIN:VEVENT
UID:diw_01.c.423775.de
LOCATION:Eleanor-Dulles-Raum,DIW Berlin im Quartier 110,5.2.010,Anton-Wilhelm-Amo-Straße 58,10117 Berlin
SUMMARY:The Impact of Immigration on Natives' Wages
DESCRIPTION:13:15-14:45 // Does regulation of product and labor markets alter the impact of immigration on wages of competing native workers? Exploiting the unique historical event of the German reunification, we compare the wage consequences of East Germans migrating into different segments of the West German labor market: one segment without product and labor market regulation, to which standard immigration models best apply, one segment in which product and labor market regulation interact, and one segment covering intermediate groups of workers. We find a negative effect of the large influx of close substitutes in production on the wage growth of competing native West Germans in the segment with almost free firm entry into product markets and weak worker influence on the decision-making of firms. Competing native workers were shielded from such pressure if firm entry regulation interacted with labor market institutions, implying a strong influence of workers on the decision-making of profit-making firms.
DTSTART;VALUE=DATE:20130712
DTEND;VALUE=DATE:20130712
DTSTAMP:20130630T220000Z
URL:https://www.diw.de/de/diw_01.c.423775.de/veranstaltungen/the_impact_of_immigration_on_natives_wages.html
ORGANIZER;CN=Yun Cao:mailto:ycao@diw.de
END:VEVENT
END:VCALENDAR