BEGIN:VCALENDAR
VERSION:2.0
PRODID:https://www.diw.de/de/diw_01.c.806339.de/veranstaltungen.html
METHOD:PUBLISH
CALSCALE:GREGORIAN
BEGIN:VEVENT
UID:diw_01.c.424683.de
LOCATION:Eleanor-Dulles-Raum,DIW Berlin im Quartier 110,5.2.010,Anton-Wilhelm-Amo-Straße 58,10117 Berlin
SUMMARY:Modeling Earnings and Inequality Dynamics with Linked Employer-Employee Data
DESCRIPTION:13:15-14:45 // We produce a new decomposition of wage inequality into worker and firm-level components, and study its evolution over time. To do so, we build and estimate an equilibrium search model with on the job search (as in Postel-Viney and Robin, 2002). The model delivers a theory of steady-state wage dispersion driven by heterogeneous worker abilities and firm productivities, as well as matching frictions and workers’ bargaining power. An estimation procedure is designed to recover these components and their underlying parameters using two consecutive years of matched employer and employee panel data. Assuming steady-state in each case, we estimate the model parameters for all sub-panels of two consecutive years over the period 1976-2011 using the French DADS panel. We then analyze the macro-dynamics of estimated parameters and see how they contribute to explain changes in wage inequalities. Our estimation strategy has been tested using simulated data. Estimation using real-world data is still in progress and we do not have any results to present for the moment. 
DTSTART;VALUE=DATE:20130719
DTEND;VALUE=DATE:20130719
DTSTAMP:20130716T220000Z
URL:https://www.diw.de/de/diw_01.c.424683.de/veranstaltungen/modeling_earnings_and_inequality_dynamics_with_linked_employer_employee_data.html
ORGANIZER;CN=Peter Haan:mailto:phaan@diw.de
END:VEVENT
END:VCALENDAR