BEGIN:VCALENDAR
VERSION:2.0
PRODID:https://www.diw.de/de/diw_01.c.806339.de/veranstaltungen.html
METHOD:PUBLISH
CALSCALE:GREGORIAN
BEGIN:VEVENT
UID:diw_01.c.425633.de
SUMMARY:Panel Data Analysis
DESCRIPTION:14:00-18:00 (Oct 10) Room 2200809:00-12:30 (Oct 11) Room 52010
DTSTART;VALUE=DATE:20131009T220000Z
DTEND;VALUE=DATE:20131011T220000Z
DTSTAMP:20130801T220000Z
URL:https://www.diw.de/de/diw_01.c.425633.de/veranstaltungen/panel_data_analysis.html
ORGANIZER;CN=Yun Cao:mailto:ycao@diw.de
END:VEVENT
END:VCALENDAR