BEGIN:VCALENDAR
VERSION:2.0
PRODID:https://www.diw.de/de/diw_01.c.806339.de/veranstaltungen.html
METHOD:PUBLISH
CALSCALE:GREGORIAN
BEGIN:VEVENT
UID:diw_01.c.428779.de
LOCATION:Eleanor-Dulles-Raum,DIW Berlin im Quartier 110,5.2.010,Anton-Wilhelm-Amo-Straße 58,10117 Berlin
SUMMARY:Dynamic Aspects in Corporate Leniency Programs
DESCRIPTION:13:15-14:45 // 
DTSTART;VALUE=DATE:20131108
DTEND;VALUE=DATE:20131108
DTSTAMP:20130924T220000Z
URL:https://www.diw.de/de/diw_01.c.428779.de/veranstaltungen/dynamic_aspects_in_corporate_leniency_programs.html
ORGANIZER;CN=Nicole Haase:mailto:nhaase@diw.de 
END:VEVENT
END:VCALENDAR