BEGIN:VCALENDAR
VERSION:2.0
PRODID:https://www.diw.de/de/diw_01.c.806339.de/veranstaltungen.html
METHOD:PUBLISH
CALSCALE:GREGORIAN
BEGIN:VEVENT
UID:diw_01.c.429984.de
LOCATION:Gustav-Schmoller-Raum,DIW Berlin im Quartier 110,3.3.002A,Anton-Wilhelm-Amo-Straße 58,10117 Berlin
SUMMARY:Funding Risk and the Increase in Collateralized Lending
DESCRIPTION:12:00-13:30 Uhr // 
DTSTART;VALUE=DATE:20131030
DTEND;VALUE=DATE:20131030
DTSTAMP:20131021T220000Z
URL:https://www.diw.de/de/diw_01.c.429984.de/veranstaltungen/funding_risk_and_the_increase_in_collateralized_lending.html
ORGANIZER;CN=Christoph Große Steffen:mailto:cgrossesteffen@diw.de
END:VEVENT
END:VCALENDAR