BEGIN:VCALENDAR
VERSION:2.0
PRODID:https://www.diw.de/de/diw_01.c.806339.de/veranstaltungen.html
METHOD:PUBLISH
CALSCALE:GREGORIAN
BEGIN:VEVENT
UID:diw_01.c.430042.de
LOCATION:Eleanor-Dulles-Raum,DIW Berlin im Quartier 110,5.2.010,Anton-Wilhelm-Amo-Straße 58,10117 Berlin
SUMMARY:R&D Behavior of Manufacturing Companies During the Recession 2008/2009
DESCRIPTION:11:00 // 
DTSTART;VALUE=DATE:20131018
DTEND;VALUE=DATE:20131018
DTSTAMP:20131021T220000Z
URL:https://www.diw.de/de/diw_01.c.430042.de/veranstaltungen/r_d_behavior_of_manufacturing_companies_during_the_recession_2008/2009.html
END:VEVENT
END:VCALENDAR