BEGIN:VCALENDAR
VERSION:2.0
PRODID:https://www.diw.de/de/diw_01.c.806339.de/veranstaltungen.html
METHOD:PUBLISH
CALSCALE:GREGORIAN
BEGIN:VEVENT
UID:diw_01.c.430123.de
LOCATION:Eleanor-Dulles-Raum,DIW Berlin im Quartier 110,5.2.010,Anton-Wilhelm-Amo-Straße 58,10117 Berlin
SUMMARY:Structural Production Function Estimation
DESCRIPTION:14:00-18:00 // Part I: Thursday October 31,14h-16h Introduction Production function estimation - Base Model  (Olley and Pakes; Ecta, 1996) Part II: Thursday October 31,16h-18h Production function estimation - Extension I (Levinsohn and Petrin, REStud, 2003) Part III: Friday, November 1, 9h-11hProduction function estimation - Extension II (Ackerberg, Caves, and Frazer, 2006 & Wooldridge, Eco. Letters, 2011) Part IV: Friday, November 1,  11h-13h Productivity and markups (De Locker Ecta, 2011; De Loecker and Warzynski AER, 2012; Aw, Roberts, and Xu AER, 2011; De Loecker (IJIO, 2011) 
DTSTART;VALUE=DATE:20131030T220000Z
DTEND;VALUE=DATE:20131101T220000Z
DTSTAMP:20131023T220000Z
URL:https://www.diw.de/de/diw_01.c.430123.de/veranstaltungen/structural_production_function_estimation.html
ORGANIZER;CN=Yun Cao:mailto:ycao@diw.de
END:VEVENT
END:VCALENDAR