BEGIN:VCALENDAR
VERSION:2.0
PRODID:https://www.diw.de/de/diw_01.c.806339.de/veranstaltungen.html
METHOD:PUBLISH
CALSCALE:GREGORIAN
BEGIN:VEVENT
UID:diw_01.c.430206.de
LOCATION:Humboldt-Universität zu Berlin,Room 125,Spandauer Str. 1,10178 Berlin
SUMMARY:Early Retirement and Youth Employment in Norway
DESCRIPTION:18:30 - 20:00 // Abstract: This paper studies the short term and micro level effects of the number of jobs released through early retirement on labour market outcomes for young potential entrants. Causal estimates of old-young substitution effects in local labour markets are obtained by means of instrumental variable estimation, exploiting a unique administrative data set covering the entire population of Norway and exogenous variation created by the gradual phasing in of an early retirement programme. The resulting short term substitution effects are rather sizable: For every additional early retirement pensioner there is room for one new labour market entrant. 
DTSTART;VALUE=DATE:20131030
DTEND;VALUE=DATE:20131030
DTSTAMP:20131027T230000Z
URL:https://www.diw.de/de/diw_01.c.430206.de/veranstaltungen/early_retirement_and_youth_employment_in_norway.html
END:VEVENT
END:VCALENDAR