BEGIN:VCALENDAR
VERSION:2.0
PRODID:https://www.diw.de/de/diw_01.c.806339.de/veranstaltungen.html
METHOD:PUBLISH
CALSCALE:GREGORIAN
BEGIN:VEVENT
UID:diw_01.c.433926.de
LOCATION:Eleanor-Dulles-Raum,DIW Berlin im Quartier 110,5.2.010,Anton-Wilhelm-Amo-Straße 58,10117 Berlin
SUMMARY:Bayesian Estimation of DSGE Models
DESCRIPTION:
DTSTART;VALUE=DATE:20141029T220000Z
DTEND;VALUE=DATE:20141031T220000Z
DTSTAMP:20131217T230000Z
URL:https://www.diw.de/de/diw_01.c.433926.de/veranstaltungen/bayesian_estimation_of_dsge_models.html
ORGANIZER;CN=Yun Cao:mailto:ycao@diw.de
END:VEVENT
END:VCALENDAR