BEGIN:VCALENDAR
VERSION:2.0
PRODID:https://www.diw.de/de/diw_01.c.806339.de/veranstaltungen.html
METHOD:PUBLISH
CALSCALE:GREGORIAN
BEGIN:VEVENT
UID:diw_01.c.436850.de
LOCATION:Eleanor-Dulles-Raum,DIW Berlin im Quartier 110,5.2.010,Anton-Wilhelm-Amo-Straße 58,10117 Berlin
SUMMARY:Practical Tools for DSGE Modelling
DESCRIPTION:21.03. 15:00-18:30, Dulles room (5.2.010)24.03. 09:00-12:30,Schmoller room (1.2.026)
DTSTART;VALUE=DATE:20140320T220000Z
DTEND;VALUE=DATE:20140324T220000Z
DTSTAMP:20140203T230000Z
URL:https://www.diw.de/de/diw_01.c.436850.de/veranstaltungen/practical_tools_for_dsge_modelling.html
ORGANIZER;CN=Yun Cao:mailto:ycao@diw.de
END:VEVENT
END:VCALENDAR