BEGIN:VCALENDAR
VERSION:2.0
PRODID:https://www.diw.de/de/diw_01.c.806339.de/veranstaltungen.html
METHOD:PUBLISH
CALSCALE:GREGORIAN
BEGIN:VEVENT
UID:diw_01.c.441010.de
LOCATION:Gustav-Schmoller-Raum,DIW Berlin im Quartier 110,3.3.002A,Anton-Wilhelm-Amo-Straße 58,10117 Berlin
SUMMARY:Complex Heterogeneity in Microeconometrics
DESCRIPTION:21.11.2014 14:00-17:3024.11.2014 09:00-12:30
DTSTART;VALUE=DATE:20141120T220000Z
DTEND;VALUE=DATE:20141124T220000Z
DTSTAMP:20140320T230000Z
URL:https://www.diw.de/de/diw_01.c.441010.de/veranstaltungen/complex_heterogeneity_in_microeconometrics.html
ORGANIZER;CN=Yun Cao:mailto:ycao@diw.de
END:VEVENT
END:VCALENDAR