BEGIN:VCALENDAR
VERSION:2.0
PRODID:https://www.diw.de/de/diw_01.c.806339.de/veranstaltungen.html
METHOD:PUBLISH
CALSCALE:GREGORIAN
BEGIN:VEVENT
UID:diw_01.c.462990.en
LOCATION:Gustav-Schmoller-Raum,DIW Berlin im Quartier 110,3.3.002A,Anton-Wilhelm-Amo-Straße 58,10117 Berlin
SUMMARY:Economics of Networks: Theory and Applications
DESCRIPTION:14:00-17:30 (7 July) 09:00-12:30 (8 July)
DTSTART;VALUE=DATE:20140706T220000Z
DTEND;VALUE=DATE:20140708T220000Z
DTSTAMP:20140507T220000Z
URL:https://www.diw.de/en/diw_01.c.462990.en/events/economics_of_networks_theory_and_applications.html
ORGANIZER;CN=Yun Cao:mailto:ycao@diw.de
END:VEVENT
END:VCALENDAR