BEGIN:VCALENDAR
VERSION:2.0
PRODID:https://www.diw.de/de/diw_01.c.806339.de/veranstaltungen.html
METHOD:PUBLISH
CALSCALE:GREGORIAN
BEGIN:VEVENT
UID:diw_01.c.464993.en
LOCATION:Gustav-Schmoller-Raum,DIW Berlin im Quartier 110,3.3.002A,Anton-Wilhelm-Amo-Straße 58,10117 Berlin
SUMMARY:Skills, Occupational Choice, and Educational Attainment
DESCRIPTION:18:15 - 19:30 // Abstract: Miriam Gensowski proposes a model of educational choice in which the formation of wage expectations accounts for anticipated occupational choices as well as education levels. Occupations are characterized as bundles of tasks that are explicitly linked to multi-dimensional abilities and personality traits. These traits are measured in Project Talent data that I augment with information from the Dictionary of Occupational Titles. The importance of skills is contrasted with the influence of parental background in this mutually dependent decision.
DTSTART;VALUE=DATE:20140521
DTEND;VALUE=DATE:20140521
DTSTAMP:20140518T220000Z
URL:https://www.diw.de/en/diw_01.c.464993.en/events/skills_occupational_choice_and_educational_attainment.html
END:VEVENT
END:VCALENDAR