BEGIN:VCALENDAR
VERSION:2.0
PRODID:https://www.diw.de/de/diw_01.c.806339.de/veranstaltungen.html
METHOD:PUBLISH
CALSCALE:GREGORIAN
BEGIN:VEVENT
UID:diw_01.c.465559.de
LOCATION:Eleanor-Dulles-Raum,DIW Berlin im Quartier 110,5.2.010,Anton-Wilhelm-Amo-Straße 58,10117 Berlin
SUMMARY:Private school “effects” on student achievement in Australian schools
DESCRIPTION:13:15-14:45 // 
DTSTART;VALUE=DATE:20140610
DTEND;VALUE=DATE:20140610
DTSTAMP:20140526T220000Z
URL:https://www.diw.de/de/diw_01.c.465559.de/veranstaltungen/private_school_effects_on_student_achievement_in_australian_schools.html
ORGANIZER;CN=Nicole Haase:mailto:nhaase@diw.de 
END:VEVENT
END:VCALENDAR