BEGIN:VCALENDAR
VERSION:2.0
PRODID:https://www.diw.de/de/diw_01.c.806339.de/veranstaltungen.html
METHOD:PUBLISH
CALSCALE:GREGORIAN
BEGIN:VEVENT
UID:diw_01.c.466571.en
LOCATION:Eleanor-Dulles-Raum,DIW Berlin im Quartier 110,5.2.010,Anton-Wilhelm-Amo-Straße 58,10117 Berlin
SUMMARY:The Internet as a Tax Haven? The Effect of the Internet on Tax Competition
DESCRIPTION:13:15-14:45 // 
DTSTART;VALUE=DATE:20140620
DTEND;VALUE=DATE:20140620
DTSTAMP:20140610T220000Z
URL:https://www.diw.de/en/diw_01.c.466571.en/events/the_internet_as_a_tax_haven_the_effect_of_the_internet_on_tax_competition.html
ORGANIZER;CN=Nicole Haase:mailto:nhaase@diw.de 
END:VEVENT
END:VCALENDAR