BEGIN:VCALENDAR
VERSION:2.0
PRODID:https://www.diw.de/de/diw_01.c.806339.de/veranstaltungen.html
METHOD:PUBLISH
CALSCALE:GREGORIAN
BEGIN:VEVENT
UID:diw_01.c.467827.en
LOCATION:Eleanor-Dulles-Raum,DIW Berlin im Quartier 110,5.2.010,Anton-Wilhelm-Amo-Straße 58,10117 Berlin
SUMMARY:The effects of policy on the future costs of carbon capture for coal power plants
DESCRIPTION:13:15-14:45 // 
DTSTART;VALUE=DATE:20140711
DTEND;VALUE=DATE:20140711
DTSTAMP:20140625T220000Z
URL:https://www.diw.de/en/diw_01.c.467827.en/events/the_effects_of_policy_on_the_future_costs_of_carbon_capture_for_coal_power_plants.html
ORGANIZER;CN=Nicole Haase:mailto:nhaase@diw.de 
END:VEVENT
END:VCALENDAR