BEGIN:VCALENDAR
VERSION:2.0
PRODID:https://www.diw.de/de/diw_01.c.806339.de/veranstaltungen.html
METHOD:PUBLISH
CALSCALE:GREGORIAN
BEGIN:VEVENT
UID:diw_01.c.482675.en
LOCATION:Eleanor-Dulles-Raum,DIW Berlin im Quartier 110,5.2.010,Anton-Wilhelm-Amo-Straße 58,10117 Berlin
SUMMARY:Asymmetric Information and Imperfect Competition in Lending Markets
DESCRIPTION:13:15-14:45 // 
DTSTART;VALUE=DATE:20141017
DTEND;VALUE=DATE:20141017
DTSTAMP:20140921T220000Z
URL:https://www.diw.de/en/diw_01.c.482675.en/events/asymmetric_information_and_imperfect_competition_in_lending_markets.html
ORGANIZER;CN=Nicole Haase:mailto:nhaase@diw.de 
END:VEVENT
END:VCALENDAR