BEGIN:VCALENDAR
VERSION:2.0
PRODID:https://www.diw.de/de/diw_01.c.806339.de/veranstaltungen.html
METHOD:PUBLISH
CALSCALE:GREGORIAN
BEGIN:VEVENT
UID:diw_01.c.483633.de
LOCATION:Eleanor-Dulles-Raum,DIW Berlin im Quartier 110,5.2.010,Anton-Wilhelm-Amo-Straße 58,10117 Berlin
SUMMARY:The Effects of Mixed Distribution
DESCRIPTION:10:30 // 
DTSTART;VALUE=DATE:20141128
DTEND;VALUE=DATE:20141128
DTSTAMP:20140930T220000Z
URL:https://www.diw.de/de/diw_01.c.483633.de/veranstaltungen/the_effects_of_mixed_distribution.html
ORGANIZER;CN=Tobias Schmidt:mailto:tschmidt@diw.de
END:VEVENT
END:VCALENDAR