BEGIN:VCALENDAR
VERSION:2.0
PRODID:https://www.diw.de/de/diw_01.c.806339.de/veranstaltungen.html
METHOD:PUBLISH
CALSCALE:GREGORIAN
BEGIN:VEVENT
UID:diw_01.c.489137.de
LOCATION:Gustav-Schmoller-Raum,DIW Berlin im Quartier 110,3.3.002A,Anton-Wilhelm-Amo-Straße 58,10117 Berlin
SUMMARY:Unemployment (fears), precautionary savings and aggregate demand
DESCRIPTION:12:00-13:30 // 
DTSTART;VALUE=DATE:20141217
DTEND;VALUE=DATE:20141217
DTSTAMP:20140929T220000Z
URL:https://www.diw.de/de/diw_01.c.489137.de/veranstaltungen/unemployment_fears_precautionary_savings_and_aggregate_demand.html
ORGANIZER;CN=Verena Grass:mailto:vgrass@diw.de
END:VEVENT
END:VCALENDAR