BEGIN:VCALENDAR
VERSION:2.0
PRODID:https://www.diw.de/de/diw_01.c.806339.de/veranstaltungen.html
METHOD:PUBLISH
CALSCALE:GREGORIAN
BEGIN:VEVENT
UID:diw_01.c.491470.de
LOCATION:Schumpeter Saal,DIW Berlin im Quartier 110,Anton-Wilhelm-Amo-Straße 58,10117 Berlin
SUMMARY:Effekt des Hochschulzugangs (mit/ohne Abitur) auf den Studienerfolg
DESCRIPTION:11:30 - 12:45 // mit Kommentar von Dr. Marco Neumann  Anmeldung bis 05.01.2015 unter bien-edu@diw.de
DTSTART;VALUE=DATE:20150108
DTEND;VALUE=DATE:20150108
DTSTAMP:20141203T230000Z
URL:https://www.diw.de/de/diw_01.c.491470.de/veranstaltungen/effekt_des_hochschulzugangs_mit/ohne_abitur_auf_den_studienerfolg.html
ORGANIZER;CN=Johanna Storck:mailto:jstorck@diw.de
END:VEVENT
END:VCALENDAR