BEGIN:VCALENDAR
VERSION:2.0
PRODID:https://www.diw.de/de/diw_01.c.806339.de/veranstaltungen.html
METHOD:PUBLISH
CALSCALE:GREGORIAN
BEGIN:VEVENT
UID:diw_01.c.491878.en
LOCATION:Gustav-Schmoller-Raum,DIW Berlin im Quartier 110,3.3.002A,Anton-Wilhelm-Amo-Straße 58,10117 Berlin
SUMMARY:Graphical Causal Models
DESCRIPTION:22.01.2015, 14.00-17.30 23.01.2015, 09.00-12.30
DTSTART;VALUE=DATE:20150121T220000Z
DTEND;VALUE=DATE:20150123T220000Z
DTSTAMP:20141208T230000Z
URL:https://www.diw.de/en/diw_01.c.491878.en/events/graphical_causal_models.html
ORGANIZER;CN=Juliane Metzner:mailto:jmetzner@diw.de
END:VEVENT
END:VCALENDAR