BEGIN:VCALENDAR
VERSION:2.0
PRODID:https://www.diw.de/de/diw_01.c.806339.de/veranstaltungen.html
METHOD:PUBLISH
CALSCALE:GREGORIAN
BEGIN:VEVENT
UID:diw_01.c.491882.en
LOCATION:Eleanor-Dulles-Raum,DIW Berlin im Quartier 110,5.2.010,Anton-Wilhelm-Amo-Straße 58,10117 Berlin
SUMMARY:Bootstrap Inference in Econometrics
DESCRIPTION:30.03.2015, 14.00-17.30 31.03.2015, 09.00-12.30
DTSTART;VALUE=DATE:20150329T220000Z
DTEND;VALUE=DATE:20150331T220000Z
DTSTAMP:20141208T230000Z
URL:https://www.diw.de/en/diw_01.c.491882.en/events/bootstrap_inference_in_econometrics.html
ORGANIZER;CN=Juliane Metzner:mailto:jmetzner@diw.de
END:VEVENT
END:VCALENDAR