BEGIN:VCALENDAR
VERSION:2.0
PRODID:https://www.diw.de/de/diw_01.c.806339.de/veranstaltungen.html
METHOD:PUBLISH
CALSCALE:GREGORIAN
BEGIN:VEVENT
UID:diw_01.c.491886.de
LOCATION:Eleanor-Dulles-Raum,DIW Berlin im Quartier 110,5.2.010,Anton-Wilhelm-Amo-Straße 58,10117 Berlin
SUMMARY:Analysis of High Frequency Data
DESCRIPTION:13.07.2015, 14.00-17.30 14.07.2015, 09.00-12.30
DTSTART;VALUE=DATE:20140712T220000Z
DTEND;VALUE=DATE:20140714T220000Z
DTSTAMP:20141208T230000Z
URL:https://www.diw.de/de/diw_01.c.491886.de/veranstaltungen/analysis_of_high_frequency_data.html
ORGANIZER;CN=Juliane Metzner:mailto:jmetzner@diw.de
END:VEVENT
END:VCALENDAR