BEGIN:VCALENDAR
VERSION:2.0
PRODID:https://www.diw.de/de/diw_01.c.806339.de/veranstaltungen.html
METHOD:PUBLISH
CALSCALE:GREGORIAN
BEGIN:VEVENT
UID:diw_01.c.498684.de
LOCATION:Eleanor-Dulles-Raum,DIW Berlin im Quartier 110,5.2.010,Anton-Wilhelm-Amo-Straße 58,10117 Berlin
SUMMARY:The German child-care pension benefit and household savings
DESCRIPTION:12:30 - 13:30 // In this paper, I estimate the impact of the German child-care pension benefit (Kindererziehungszeiten) on household savings, exploiting the pension reform 1992 as a natural experiment based on the Income and Expenditure Survey (EVS). The child-care pension benefits are designed as a compensation for employment interruptions due to child-birth and they increase a mother’s pension wealth. In principle, this implies negative incentives for private savings. However, the preliminary results indicate that household savings are not affected by the higher generosity of child-care pension benefits.
DTSTART;VALUE=DATE:20150318
DTEND;VALUE=DATE:20150318
DTSTAMP:20150315T230000Z
URL:https://www.diw.de/de/diw_01.c.498684.de/veranstaltungen/the_german_child_care_pension_benefit_and_household_savings.html
ORGANIZER;CN=Michael Neumann:mailto:mneumann@diw.de
END:VEVENT
END:VCALENDAR