BEGIN:VCALENDAR
VERSION:2.0
PRODID:https://www.diw.de/de/diw_01.c.806339.de/veranstaltungen.html
METHOD:PUBLISH
CALSCALE:GREGORIAN
BEGIN:VEVENT
UID:diw_01.c.504812.de
LOCATION:Gustav-Schmoller-Raum,DIW Berlin im Quartier 110,3.3.002A,Anton-Wilhelm-Amo-Straße 58,10117 Berlin
SUMMARY:Can Central Bank Asset Purchases Alleviate Credit Frictions?
DESCRIPTION:12:00-13:15 // Can Central Bank Asset Purchases Alleviate Credit Frictions?
DTSTART;VALUE=DATE:20150527
DTEND;VALUE=DATE:20150527
DTSTAMP:20150510T220000Z
URL:https://www.diw.de/de/diw_01.c.504812.de/veranstaltungen/can_central_bank_asset_purchases_alleviate_credit_frictions.html
ORGANIZER;CN=Hedwig Plamper
END:VEVENT
END:VCALENDAR