BEGIN:VCALENDAR
VERSION:2.0
PRODID:https://www.diw.de/de/diw_01.c.806339.de/veranstaltungen.html
METHOD:PUBLISH
CALSCALE:GREGORIAN
BEGIN:VEVENT
UID:diw_01.c.504904.de
LOCATION:Eleanor-Dulles-Raum,DIW Berlin im Quartier 110,5.2.010,Anton-Wilhelm-Amo-Straße 58,10117 Berlin
SUMMARY:The Dynamics of Market-Targeted Drug Development in Post-M&A Environments
DESCRIPTION:10:30 // 
DTSTART;VALUE=DATE:20150522
DTEND;VALUE=DATE:20150522
DTSTAMP:20150512T220000Z
URL:https://www.diw.de/de/diw_01.c.504904.de/veranstaltungen/the_dynamics_of_market_targeted_drug_development_in_post_m_a_environments.html
ORGANIZER;CN=Tobias Schmidt:mailto:tschmidt@diw.de
END:VEVENT
END:VCALENDAR