BEGIN:VCALENDAR
VERSION:2.0
PRODID:https://www.diw.de/de/diw_01.c.806339.de/veranstaltungen.html
METHOD:PUBLISH
CALSCALE:GREGORIAN
BEGIN:VEVENT
UID:diw_01.c.505356.de
LOCATION:Schumpeter Saal,DIW Berlin im Quartier 110,Anton-Wilhelm-Amo-Straße 58,10117 Berlin
SUMMARY:How is Inequality Measured in International Studies on Student Achievement?
DESCRIPTION:11:30 - 12:45 // mit Kommentar von Prof. Dr. Petra Stanat (HU Berlin, IQB)  Anmeldung bis 28.05.2015 unter Bien-edu@diw.de
DTSTART;VALUE=DATE:20150604
DTEND;VALUE=DATE:20150604
DTSTAMP:20150519T220000Z
URL:https://www.diw.de/de/diw_01.c.505356.de/veranstaltungen/how_is_inequality_measured_in_international_studies_on_student_achievement.html
ORGANIZER;CN=Johanna Storck:mailto:jstorck@diw.de
END:VEVENT
END:VCALENDAR