BEGIN:VCALENDAR
VERSION:2.0
PRODID:https://www.diw.de/de/diw_01.c.806339.de/veranstaltungen.html
METHOD:PUBLISH
CALSCALE:GREGORIAN
BEGIN:VEVENT
UID:diw_01.c.506354.de
LOCATION:Eleanor-Dulles-Raum,DIW Berlin im Quartier 110,5.2.010,Anton-Wilhelm-Amo-Straße 58,10117 Berlin
SUMMARY:Challenged or Inefficient or Finding the right Yardstick
DESCRIPTION:10:30 // 
DTSTART;VALUE=DATE:20150605
DTEND;VALUE=DATE:20150605
DTSTAMP:20150531T220000Z
URL:https://www.diw.de/de/diw_01.c.506354.de/veranstaltungen/challenged_or_inefficient_or_finding_the_right_yardstick.html
ORGANIZER;CN=Tobias Schmidt:mailto:tschmidt@diw.de
END:VEVENT
END:VCALENDAR